BEGIN:VCALENDAR
PRODID:-//80.74.128.4//NONSGML kigkonsult.se iCalcreator 2.8//
VERSION:2.0
CALSCALE:GREGORIAN
METHOD:PUBLISH
X-WR-TIMEZONE:Europe/Zurich
BEGIN:VEVENT
UID:611@www.jug.ch
DTSTAMP:20250410T174950Z
DESCRIPTION:
DTSTART:20190109T180000
DTEND:20190109T191500
LOCATION:Bern (Vatter Business Center\, Bärenplatz 2\, 3011 Bern)
ORGANIZER:MAILTO:CN=Java User Group Switzerland:MAILTO:events@jug.ch
SUMMARY:jug.ch: Microservices ❤️ DDD
END:VEVENT
END:VCALENDAR
