BEGIN:VCALENDAR
PRODID:-//80.74.128.4//NONSGML kigkonsult.se iCalcreator 2.8//
VERSION:2.0
CALSCALE:GREGORIAN
METHOD:PUBLISH
X-WR-TIMEZONE:Europe/Zurich
BEGIN:VEVENT
UID:1025@www.jug.ch
DTSTAMP:20260421T155150Z
DESCRIPTION:Building a SaaS Product With Paying Customers Alongside a Full-
 Time Job
DTSTART:20260901T181500
DTEND:20260901T193000
LOCATION:Zürich (PH Zürich\, Lagerstrasse 2\, 8090 Zürich\, Building LAA\, 
 Room J002C)
ORGANIZER:MAILTO:CN=Java User Group Switzerland:MAILTO:events@jug.ch
SUMMARY:jug.ch: Agentic Coding: From the Idea to the Live Product
END:VEVENT
END:VCALENDAR
